BEGIN:VCALENDAR
VERSION:2.0
PRODID:-//Tukios.com/
BEGIN:VEVENT
UID:e54601c9-15a4-41d3-a976-691a99344eed@www.rogerwdavisfuneralhome.com
DTSTAMP:20260420T214401Z
DTSTART:20260423T183000Z
DTEND:20260423T200000Z
SUMMARY:Visitation
DESCRIPTION:
URL:https://www.rogerwdavisfuneralhome.com/obituaries/john-uldrich
LOCATION: 1310 3rd St  West Portsmouth OH 45663
GEO:38.7528523;-83.0293611
END:VEVENT
END:VCALENDAR