BEGIN:VCALENDAR
VERSION:2.0
PRODID:-//Tukios.com/
BEGIN:VEVENT
UID:a0fd73d6-6f0e-49ee-b19d-6c02a912decb@www.rogerwdavisfuneralhome.com
DTSTAMP:20260420T214004Z
DTSTART:20260423T200000Z
DTEND:20260423T210000Z
SUMMARY:Celebration of Life
DESCRIPTION:
URL:https://www.rogerwdavisfuneralhome.com/obituaries/john-uldrich
LOCATION: 1310 3rd St  West Portsmouth OH 45663
GEO:38.7528523;-83.0293611
END:VEVENT
END:VCALENDAR